Workbook

Sheet planina de preços
A1: PLANILHA QUANTITATIVA DE MATERIAIS E SERVIÇOS
A2: Item | B2: Decrição dos Serviços | C2: Unidade | D2: QTD Estimada | E2: V.UNITÁRIO (R$) | F2: VALOR TOTAL (R$)
A3: 1 | B3: Operação Plena do Sistema de Iluminação Pública
A4: 1.1 | B4: Manutenção Operacional e Corretiva da Iluminação Pública: Conjunto de serviços necessários para que a Rede de Iluminação Pública desempenhe sua função e opere em condição normal, padronizada e de segurança, envolvendo ações corretivas, incluindo o fornecimento e aplicação de materiais e equipamentos necessários ao restabelecimento operacional. | C4: ponto de iluminação existente por mês (item multiplicado por 12) | D4: 19400 | E4: 9.4 | F4: =D4*E4*12 -> 2188320
A5: 1.2 | B5: Serviço de recadastramento e identificação de pontos integrados ao sistema de gerenciamento informatizado geo-referenciado, relativamente ao acervo (pontos) do sistema de iluminação pública, incluso o fornecimento de materiais (Plaquetas,fixações,adesivo). | C5: un. | D5: 19400 | E5: 27 | F5: =D5*E5 -> 523800
B6: Serviço de teleatendimento a população com fornecimento de telefone 0800 e fornecimento e operção de software de gerecenciamento e gestão do parque de iluminção pública do município | C6: mês | D6: 12 | E6: 3750 | F6: =D6*E6 -> 45000
A7: TOTAL OPERAÇÃO | F7: =SUM(F4:F6) -> 2757120
A8: 2 | B8: MELHORIAS, MODERNIZAÇÃO EFICIENTIZAÇÃO E IMPLANTAÇÃO
A9: 2.1 | B9: ILUMINAÇÃO CÊNICA - BIBLIOTECA MUNICIPAL E PARQUE SANTO EXPEDITO
A10: 2.1.1 | B10: Projetor/luminária LED RGBW DMX-512, abe+B91:B105rtura facho 5º a 8º, conforme espec. técnicas (iluminação para destaque de pilares), garantia de 3 (três) anos | C10: unid | D10: =16+2 -> 18 | E10: 3600 | F10: =D10*E10 -> 64800
A11: 2.1.2 | B11: Projetor/luminária LED RGBW DMX-512, abertura facho 25º, conforme espec. técnicas (iluminação para destaque de volumes), garantia de 3 (três) anos | C11: unid | D11: =8+2 -> 10 | E11: 3542 | F11: =D11*E11 -> 35420
A12: 2.1.3 | B12: Projetor/lum linear LED RGBW DMX-512, abertura facho 25º/10º ou projetor 40º, conforme espec. técnicas (iluminação sob janelas das fachadas lateriais), garantia de 3 (três) anos | C12: unid | D12: =8+2 -> 10 | E12: 3520 | F12: =D12*E12 -> 35200
A13: 2.1.4 | B13: Luminária Linear LED RGBW DMX-512, comprimento 1,00 a 1,20m, conforme espec. técnicas r), garantia de 3 (três) anos | C13: unid | D13: =43+2 -> 45 | E13: 3203 | F13: =D13*E13 -> 144135
A14: 2.1.5 | B14: Luminária Linear LED RGBW DMX-512, comprimento 0,50 a 0,60m, conforme espec. técnicas ), garantia de 3 (três) anos | C14: unid | D14: =8+2 -> 10 | E14: 2600 | F14: =D14*E14 -> 26000
A15: 2.1.6 | B15: Luminária LED Refletor Retangular bivolt, 50W, cor branca, temperatura de cor 4000 a 5000K. | C15: unid | D15: 6 | E15: 490 | F15: =D15*E15 -> 2940
A16: 2.1.7 | B16: base de concreto moldada no local para luminários de piso, incluso chumbadores para fixação das luminárias | C16: vb | D16: =D10+D11+D12+D15-6 -> 38 | E16: 300 | F16: =D16*E16 -> 11400
A17: 2.1.8 | B17: Grade de aço para proteção para luminárias, com pintura eletrostática ou tratamento para itempéires, para instalação junto a luminárias/projetores de solo para prevenção de roubos e vandalismo. Deverá ser fabricado de modo a interferir minimamente na emissão de luz | C17: unid | D17: =D16 -> 38 | E17: 370 | F17: =D17*E17 -> 14060
A18: 2.1.9 | B18: Lâmpada BulboLED 15W, alimentação 127V ou 220V, temperatura de cor 3000K ,instalação nos 2 postes decorativos junto ao portão de acesso | C18: unid | D18: 10 | E18: 57 | F18: =D18*E18 -> 570
A19: 2.1.10 | B19: Cabo DMX | C19: m | D19: 200 | E19: 11 | F19: =D19*E19 -> 2200
A20: 2.1.11 | B20: Conector DMX Outdoor, conjunto macho e fêmea | C20: cj | D20: =100 -> 100 | E20: 87 | F20: =D20*E20 -> 8700
A21: 2.1.12 | B21: Splitter de sinal DMX 1x4 | C21: unid | D21: 4 | E21: 1476 | F21: =D21*E21 -> 5904
A22: 2.1.13 | B22: Kit Interface Controlador | C22: unid | D22: 1 | E22: 139 | F22: =D22*E22 -> 139
A23: 2.1.14 | B23: Controlador dedicado para fazer o gerenciamento de luminárias LED que utilizam o protocolo ART-Net/DMX512, com memória para armazenamento de programação, usadas na iluminação arquitetural de monumentos e prédios em geral. Controlador protegido por caixa de PVC IP 65, com placa microprocessada, cartão de memória 16 GB classe 10, placa com fonte de alimentação e relé para ligação em contatora, roteador Wi-Fi interno, cabo de alimentação com conexão via rede Ethernet. Deverá permitir controle a distância, via interface e wi-fi, o funcionamento de projetores RGBW (red, green, blue, white), com possibilidade de agendar horários, troca de cores, mudança de intensidade de luz, aplicação de efeitos especiais, criação de cenários próprios, facilitando a participação em campanhas nacionais (outubro rosa, novembro azul, etc) ou a realização de outros eventos. | C23: unid | D23: 1 | E23: 949 | F23: =D23*E23 -> 949
A24: 2.1.15 | B24: Programação e Start Up do Sistema (em horas de engenharia) | C24: Hxh | D24: 88 | E24: 125 | F24: =D24*E24 -> 11000
A25: 2.1.16 | B25: Comissionamento (em horas de engenharia) | C25: Hxh | D25: 44 | E25: 125 | F25: =D25*E25 -> 5500
A26: 2.1.17 | B26: Disjuntor termomagnético padrão IEC em caixa moldada, Icc>20kA, tripolar 125A | C26: unid | D26: 2 | E26: 435 | F26: =D26*E26 -> 870
A27: 2.1.18 | B27: Disjuntor termomagnético padrão IEC em caixa moldada, Icc>20kA, tripolar 63A | C27: unid | D27: 2 | E27: 165 | F27: =D27*E27 -> 330
A28: 2.1.19 | B28: Mini-disjuntor padrão DIN, 3P-32A, ref.: Schneider, WEG, Moeller, Siemens | C28: unid | D28: 6 | E28: 120 | F28: =D28*E28 -> 720
A29: 2.1.20 | B29: Mini-disjuntor padrão DIN, 2P-20A, ref.: Schneider, WEG, Moeller, Siemens | C29: unid | D29: 8 | E29: 88 | F29: =D29*E29 -> 704
A30: 2.1.21 | B30: Mini-disjuntor padrão DIN, 1P-20A, ref.: Schneider, WEG, Moeller, Siemens | C30: unid | D30: 8 | E30: 22 | F30: =D30*E30 -> 176
A31: 2.1.22 | B31: Dispositivo Protetor contra surtos, DPS, 175V, 45kA, classe II, 8/20us, ref.: Clamper ou equivalente | C31: unid | D31: 4 | E31: 82 | F31: =D31*E31 -> 328
A32: 2.1.23 | B32: Tomada Industrial fêmea, IP67, 4 pólos (3F+T), 63A, cor azul (220V), ref.: Steck | C32: cjto | D32: 2 | E32: 152 | F32: =D32*E32 -> 304
... A40: 2.1.31 | B40: Caixa de alumínio 40x40x20cm, com tampa | C40: unid | D40: 2 | E40: 85 | F40: =D40*E40 -> 170
A41: 2.1.32 | B41: Cabo múltiplo tipo PP, isol. HEPR 1kV, 3x4,0mm² | C41: m | D41: =12*15+50*4+20 -> 400 | E41: 11 | F41: =D41*E41 -> 4400
A42: 2.1.33 | B42: Cabo de cobre flexível, classe 4 ou 5, isol. XLPE 0,6/1kV HEPR 90° | C42: m | D42: =250*4 -> 1000 | E42: 15 | F42: =D42*E42 -> 15000
A43: 2.1.34 | B43: Cabo de cobre flexível, classe 4 ou 5, isol. 0,6/1kV HEPR 90°, cobertura em termoplástico não halogenado (baixa emissão de fumaça e gases tóxicos), conforme NBR 13248 , #16mm² | C43: m | D43: =55*2 -> 110 | E43: 21 | F43: =D43*E43 -> 2310
A44: 2.1.35 | B44: Cabo de cobre flexível, classe 4 ou 5, isol. 0,6/1kV HEPR 90°, cobertura em termoplástico não halogenado (baixa emissão de fumaça e gases tóxicos), conforme NBR 13248 , #25mm² | C44: m | D44: =15+55*3*2 -> 345 | E44: 23 | F44: =D44*E44 -> 7935
A45: 2.1.36 | B45: Cabo de cobre flexível, classe 4 ou 5, isol. 0,6/1kV HEPR 90°, cobertura em termoplástico não halogenado (baixa emissão de fumaça e gases tóxicos), conforme NBR 13248 , #50mm² | C45: m | D45: =15*4 -> 60 | E45: 39 | F45: =D45*E45 -> 2340
A46: 2.1.37 | B46: Eletroduto PVC 32mm (1"), barra de 3m, incluso acessórios e conexões | C46: m | D46: 9 | E46: 16 | F46: =D46*E46 -> 144
A47: 2.1.38 | B47: Bucha e arruela em aluminio 32mm (1") | C47: cj | D47: 4 | E47: 2.65 | F47: =D47*E47 -> 10.6
...

Sheet BDI
B3: Cliente: | C3: Prefeitura Municipal de Apucarana
B4: Objeto: | C4: CONTRATAÇÃO DE EMPRESA ESPECIALIZADA NA PRESTAÇÃO DE SERVIÇOS OPERACIONAIS DO PARQUE DE ILUMINAÇÃO PÚBLICA DO MUNICÍPIO DE APUCARANA, COMPREENDENDO A EXECUÇÃO DE SERVIÇOS DE MANUTENÇÃO PERMANENTE, REALIZAÇÃO DE MELHORIAS E MODERNIZAÇÃO DO PARQUE DE ILUMINAÇÃO PÚBLICA, MEDIANTE FORNECIMENTO DE MATERIAIS, MÃO DE OBRA, EQUIPAMENTOS E FERRAMENTAL NECESSÁRIOS.
B5: Composição de Bonificação de Despesas Indiretas - BDI
B6: BDI dos Itens de Obra e Serviços | G6: Acórdão n° 2622/2013
B8: Item | C8: Descrição do Item | D8: %
B9: I | C9: Parcelas Incidentes sobre o Custo Indireto | G9: 1º Quartil | H9: Médio | I9: 3º Quartil
B10: 1.1 | C10: Administração Central (AC) | D10: 0.0529 | G10: 0.0529 | H10: 0.0592 | I10: 0.0793
B11: II | C11: Parcelas Incidentes sobre o Faturamento
B12: 1 | C12: Impostos (I)
B13: 1.1 | C13: COFINS | D13: 0.03 | G13: 0.03 | H13: 0.03 | I13: 0.03
B14: 1.2 | C14: PIS | D14: 0.0065 | G14: 0.0065 | H14: 0.0065 | I14: 0.0065
B15: 1.3 | C15: CPRB | D15: 0
B16: 1.4 | C16: ISS | D16: 0.05 | G16: 0.03 | H16: 0.03 | I16: 0.03
B17: 2 | C17: Lucro (L) | D17: 0.06 | G17: 0.08 | H17: 0.0831 | I17: 0.0951
B18: 3 | C18: Seguro (S) + Garantia (G) | D18: 0.0025 | G18: 0.0025 | H18: 0.0051 | I18: 0.0056
B19: 4 | C19: Riscos (R) | D19: 0.01 | G19: 0.01 | H19: 0.0148 | I19: 0.0197
B20: 5 | C20: Despesas Financeiras (DF) | D20: 0.0101 | G20: 0.0101 | H20: 0.0107 | I20: 0.0111
B21: III | C21: Total do BDI | D21: =(((1+D10+D18+D19)*(1+D20)*(1+D17))/(1-(D13+D14+D15+D16)))-1 -> 0.24874677 | G21: =TRUNC((((1+G10+G18+G19)*(1+G20)*(1+G17))/(1-G13-G14-G16))-1,4) -> 0.245 | H21: =TRUNC((((1+H10+H18+H19)*(1+H20)*(1+H17))/(1-H13-H14-H16))-1,4) -> 0.2654 | I21: =TRUNC((((1+I10+I18+I19)*(1+I20)*(1+I17))/(1-I13-I14-I16))-1,4) -> 0.3102
B23: Fórmula para cálculo do BDI: | G23: 0.24 | H23: 0.2584 | I23: 0.2786
G24: Valores do BDI por Tipo de Obra
B25: BDI = (1 + AC + S + G + R) * (1 + DF) * (1 + L) - 1 (1 - I) | G25: ACÓRDÃO Nº 2622/2013 – TCU – Plenário

Sheet cronograma
A4: CRONOGRAMA FÍSICO-FINANCEIRO
A5: OBRA: | B5: CONTRATAÇÃO DE EMPRESA ESPECIALIZADA NA PRESTAÇÃO DE SERVIÇOS OPERACIONAIS DO PARQUE DE ILUMINAÇÃO PÚBLICA DO MUNICÍPIO DE APUCARANA, COMPREENDENDO A EXECUÇÃO DE SERVIÇOS DE MANUTENÇÃO PERMANENTE, REALIZAÇÃO DE MELHORIAS E MODERNIZAÇÃO DO PARQUE DE ILUMINAÇÃO PÚBLICA, MEDIANTE FORNECIMENTO DE MATERIAIS, MÃO DE OBRA, EQUIPAMENTOS E FERRAMENTAL NECESSÁRIOS.
A8: Item | B8: Discriminação dos serviços | C8: Total dos Serviços (R$) | D8: Peso (%) | E8: VALOR DO DESEMBOLSO NO PERIODO
E9: mês 01 | F9: mês 02 | G9: mês 03 | H9: mês 04 | I9: mês 05 | J9: mês 06 | K9: mês 07 | L9: mês 08 | M9: mês 09 | N9: mês 10 | O9: mês 11 | P9: mês 12
A10: 1. | B10: Manutenção Operacional e Corretiva da Iluminação Pública | C10: ='planina de preços'!F4 -> 2188320 | D10: =C10/'planina de preços'!F91 -> 0.23125709 | E10: =C10/12 -> 182360 | F10: =C10/12 -> 182360 | G10: =C10/12 -> 182360 | H10: =C10/12 -> 182360 | I10: =C10/12 -> 182360 | J10: =C10/12 -> 182360 | K10: =C10/12 -> 182360 | L10: =C10/12 -> 182360 | M10: =C10/12 -> 182360 | N10: =C10/12 -> 182360 | O10: =C10/12 -> 182360 | P10: =C10/12 -> 182360
B11: Serviço de recadastramento e identificação de pontos | C11: ='planina de preços'!F5 -> 523800 | D11: =C11/'planina de preços'!F91 -> 0.05535409 | E11: =C11/4 -> 130950 | F11: =C11/4 -> 130950 | G11: =C11/4 -> 130950 | H11: =C11/4 -> 130950
B12: Serviço de teleatendimento a população com fornecimento de telefone 0800 e software de gerenciamento e gestão | C12: ='planina de preços'!F6 -> 45000 | D12: =C12/'[1]planilha orçamentária'!F79 -> 0.022502102 | E12: =C12/12 -> 3750 | F12: =E12 -> 3750 | G12: =F12 -> 3750 | H12: =G12 -> 3750 | I12: =E12 -> 3750 | J12: =E12 -> 3750 | K12: =G12 -> 3750 | L12: =G12 -> 3750 | M12: =I12 -> 3750 | N12: =I12 -> 3750 | O12: =J12 -> 3750 | P12: =L12 -> 3750
A13: 2. | B13: Iluminação cênica - rodoviária | C13: ='planina de preços'!F67 -> 491839.85 | D13: =C13/'planina de preços'!F91 -> 0.051976608 | M13: =C13/2 -> 245919.92 | N13: =C13/2 -> 245919.92
B14: Fornecimento e instalação de Luminária Decorativa de LED | C14: ='planina de preços'!F88-'planina de preços'!F75-'planina de preços'!F76 -> 5942755.6 | D14: =C14/'planina de preços'!F91 -> 0.628018 | G14: =C14/10 -> 594275.56 | H14: =C14/10 -> 594275.56 | I14: =C14/10 -> 594275.56 | J14: =C14/10 -> 594275.56 | K14: =C14/10 -> 594275.56 | L14: =C14/10 -> 594275.56 | M14: =C14/10 -> 594275.56 | N14: =C14/10 -> 594275.56 | O14: =C14/10 -> 594275.56 | P14: =C14/10 -> 594275.56
B15: Instalação de Telegestão | C15: ='planina de preços'!F75+'planina de preços'!F76 -> 271000 | D15: =C15/'planina de preços'!F91 -> 0.028638714 | G15: =C15/2 -> 135500 | H15: =C15/2 -> 135500
A16: TOTAL MENSAL | E16: =E10+E11+E12 -> 317060 | F16: =SUM(F10:F15) -> 317060 | G16: =G10+G11+G12+G14+G15 -> 1046835.6 | H16: =H10+H11+H12+H14+H15 -> 1046835.6 | I16: =I10+I12+I14 -> 780385.56 | J16: =J10+J12+J14 -> 780385.56 | K16: =K10+K12+K14 -> 780385.56 | L16: =L10+L12+L14 -> 780385.56 | M16: =M10+M12+M13+M14 -> 1026305.5 | N16: =N10+N12+N13+N14 -> 1026305.5 | O16: =O10+O12+O14 -> 780385.56 | P16: =P10+P12+P14 -> 780385.56
A17: TOTAL ACUMULADO | E17: =E16 -> 317060 | F17: =E17+F16 -> 634120 | G17: =F17+G16 -> 1680955.6 | H17: =G17+H16 -> 2727791.1 | I17: =H17+I16 -> 3508176.7 | J17: =I17+J16 -> 4288562.2 | K17: =J17+K16 -> 5068947.8 | L17: =K17+L16 -> 5849333.4 | M17: =L17+M16 -> 6875638.8 | ... P17: =O17+P16 -> 9462715.4

Sheet Plan2

Sheet Plan3
